BEGIN:VCALENDAR
VERSION:2.0
PRODID:-//hacksw/handcal//NONSGML v1.0//EN
BEGIN:VEVENT
SUMMARY:Challenge Francesco PULICE - DOU-6 parties
UID:4d3f5d7b-ee7e-4db2-8ae2-efb4d3a7b910
DTSTART:20260514T070000Z
DTEND:20260514T220000Z
LOCATION:Localisation   
CATEGORIES:Sportif
STATUS:
DESCRIPTION:<p>Jet du But : 9h</p>
 
 <p>Concours 6
 parties</p>
 
 <p>10€ par equipe, limite a 88
 equipes.</p>
 
 <p>Buvette et restauration type snacking</p>
URL;VALUE=URI:https://lesboulistesdavrille.sportsregions.fr/evenements/2026/05/14/challenge-francesco-pulice-dou-6-parties-2441204
END:VEVENT
END:VCALENDAR
